Workbook

Sheet Presentasjon
B2: ÅPENT NM SKOGSLØP MED PISTOLSKYTING | F2: =Grovdata!G1 -> 2025
A5: Løpet ble arrangert på Sessvollmoen bane 6 søndag 21 september. Løpet var på 8,4 km fordelt på 6 runder
A6: med 5 skytinger.
B9: Resultater:
B11: Gull: | C11: Jan Olav Stangeland | D11: NROF Oslo | E11: =G27 -> 0.044143519
B12: Sølv: | C12: Jørgen Andre Thorvaldsen | D12: NROF Oslo | E12: =G35 -> 0.044189815
B13: Bronse: | C13: Magnus Tomtesveen | D13: =D24 -> NROF Øvre Romerike | E13: =G24 -> 0.050034722
B17: Resultater fordelt på klasser:
A19: Plass | B19: Personalia | E19: Resultat
B20: Navn | D20: Avdeling / Klubb | E20: Løp | F20: Tillegg | G20: Slutttid
E21: [t:m:s] | F21: [m] | G21: [t:m:s]
A23: Klasse M1, Menn -Militært personell inne til førstegangstjeneste
A24: 1 | B24: =Grovdata!C10 -> Tomtsveen | C24: =Grovdata!D10 -> Magnus | D24: =Grovdata!E10 -> NROF Øvre Romerike | E24: =Grovdata!I10 -> 0.038923611 | F24: =Grovdata!O10 -> 16 | G24: =Grovdata!P10 -> 0.050034722
A26: Klasse M2, Menn -34 år
A27: 1 | B27: Stangeland | C27: Jan Olav | D27: NROF Oslo | E27: =Grovdata!I18 -> 0.03650463 | F27: =Grovdata!O18 -> 11 | G27: =Grovdata!P18 -> 0.044143519
A28: 2 | B28: =Grovdata!C14 -> Børresen | C28: =Grovdata!D14 -> Scott Torp | D28: =Grovdata!E14 -> NROF Øvre Romerike | E28: =Grovdata!I14 -> 0.040868056 | F28: 32 | G28: =Grovdata!P14 -> 0.063090278
A30: Klasse M3, Menn 35-42 år
A31: 1 | B31: =Grovdata!C17 -> Bakken | C31: =Grovdata!D17 -> Christian | D31: =Grovdata!E17 -> NROF Øvre Romerike | E31: =Grovdata!I17 -> 0.042465278 | F31: =Grovdata!O17 -> 20 | G31: =Grovdata!P17 -> 0.056354167
A32: 2 | B32: =Grovdata!C15 -> Raffelsen | C32: =Grovdata!D15 -> Tony | D32: =Grovdata!E15 -> NROF Øvre Romerike | E32: =Grovdata!I15 -> 0.040439815 | F32: =Grovdata!O15 -> 24 | G32: =Grovdata!P15 -> 0.057106481
A34: Klasse M4, Menn 43-49 år
A35: 1 | B35: =Grovdata!C21 -> Thorvaldsen | C35: =Grovdata!D21 -> Jørgen André Tuer | D35: NROF Oslo | E35: =Grovdata!I21 -> 0.036550926 | F35: =Grovdata!O21 -> 11 | G35: =Grovdata!P21 -> 0.044189815
A36: 2 | B36: =Grovdata!C27 -> Stene | C36: =Grovdata!D27 -> Rune | D36: =Grovdata!E27 -> NROF Øvre Romerike | E36: =Grovdata!I27 -> 0.04462963 | F36: 25 | G36: =Grovdata!P27 -> 0.061990741
A38: Klasse M5, Menn 50-54 år
A39: 1 | B39: =Grovdata!C20 -> Raknes | C39: =Grovdata!D20 -> Kenneth | D39: NROF Oslo | E39: =Grovdata!I20 -> 0.036377315 | F39: =Grovdata!O20 -> 21 | G39: =Grovdata!P20 -> 0.050960648
A40: 2 | B40: =Grovdata!C25 -> Dahl | C40: =Grovdata!D25 -> Aleksander | D40: =Grovdata!E25 -> NROF Øvre Romerike | E40: =Grovdata!I25 -> 0.057939815 | F40: =Grovdata!O25 -> 20 | G40: =Grovdata!P25 -> 0.071828704
A41: 3 | B41: =Grovdata!C19 -> Andersen | C41: =Grovdata!D19 -> Jan Erik | D41: =Grovdata!E19 -> NROF Øvre Romerike | E41: =Grovdata!I19 -> 0.047106481 | F41: =Grovdata!O19 -> 39 | G41: =Grovdata!P19 -> 0.074189815
A43: Klasse M6, Menn 55-59 år
A44: 1 | B44: =Grovdata!C11 -> Avdal | C44: =Grovdata!D11 -> Espen | D44: =Grovdata!E11 -> NROF Drammen | E44: =Grovdata!I11 -> 0.042465278 | F44: =Grovdata!O11 -> 14 | G44: =Grovdata!P11 -> 0.0521875
A45: 2 | B45: =Grovdata!C16 -> Ruud-røhne | C45: =Grovdata!D16 -> Terje | D45: =Grovdata!E16 -> NROF Øvre Romerike | E45: =Grovdata!I16 -> 0.044965278 | F45: =Grovdata!O16 -> 23 | G45: =Grovdata!P16 -> 0.0609375
A47: Klasse M7, Menn 60-69 år
A48: 1 | B48: =Grovdata!C28 -> Langerød | C48: =Grovdata!D28 -> Inge | D48: =Grovdata!E28 -> NROF Øvre Romerike | E48: =Grovdata!I28 -> 0.042465278 | F48: =Grovdata!O28 -> 18 | G48: =Grovdata!P28 -> 0.054965278
A49: 2 | B49: =Grovdata!C22 -> Hagen | C49: =Grovdata!D22 -> Carsten | D49: =Grovdata!E22 -> NROF Oslo | E49: =Grovdata!I22 -> 0.049606481 | F49: =Grovdata!O22 -> 19 | G49: =Grovdata!P22 -> 0.062800926
A50: 3 | B50: =Grovdata!C26 -> Narvestad | C50: =Grovdata!D26 -> Steinar | D50: =Grovdata!E26 -> NROF Øvre Romerike | E50: =Grovdata!I26 -> 0.0540625 | F50: =Grovdata!O26 -> 19 | G50: =Grovdata!P26 -> 0.067256944
A52: Klasse M8, Menn >70 år
A53: 1 | B53: =Grovdata!C23 -> Olsen | C53: =Grovdata!D23 -> Jan Erik | D53: =Grovdata!E23 -> NROF Oslo | E53: =Grovdata!I23 -> 0.044618056 | F53: =Grovdata!O23 -> 29 | G53: =Grovdata!P23 -> 0.064756944
A54: 2 | B54: =Grovdata!C24 -> Biørn | C54: =Grovdata!D24 -> Arne Henrik | D54: NROF Oslo | E54: =Grovdata!I24 -> 0.067777778 | F54: =Grovdata!O24 -> 21 | G54: =Grovdata!P24 -> 0.082361111
A56: For NROF Øvre Romerike
A58: Fenr Bjørn Bjølverud

Sheet Grovdata
A1: NM Skogsløp med Pistolskyting | E1: 45921 | G1: 2025
A4: Plass | B4: Start | C4: Personalia | J4: Skytetillegg | P4: Slutttid | Q4: Betalt
B5: Nr | C5: Navn | E5: Avd | F5: Fødselsår | G5: Alder | H5: Klasse | I5: Tid | J5: Småen | K5: 13X40 | L5: C20 | M5: D30 | N5: 8X22 | O5: Sum
I6: [t:m:s] | J6: [m] | K6: [m] | L6: [m] | M6: [m] | N6: [m] | O6: [m] | P6: [t:m:s]
B8: 21 | C8: Jevne | D8: Tommy | E8: NROF Øvre Romerike | F8: 1971 | G8: =$G$1-F8 -> 54 | H8: =IF(G8<=34,2,IF(G8<=42,3,IF(G8<=49,4,IF(G8<=54,5,IF(G8<=59,6,IF(G8<=69,7,8)))))) -> 5 | I8: ='Start og mål'!R8 -> 0 | J8: ='Skyte resultater'!M8 -> 12 | K8: ='Skyte resultater'!N8 -> 6 | L8: ='Skyte resultater'!O8 -> 12 | M8: ='Skyte resultater'!P8 -> 6 | N8: ='Skyte resultater'!Q8 -> 6 | O8: ='Skyte resultater'!S8 -> 42 | P8: =I8+(O8/'[1]Start og mål'!$F$2) -> 0.029166667 | Q8: Deltar ikke | R8: 0 | S8: tommyjevne@gmail.com
B9: 20 | C9: Engebretsen | D9: Rolf Martin | E9: NROF Øvre Romerike | F9: 1995 | G9: =$G$1-F9 -> 30 | H9: =IF(G9<=34,2,IF(G9<=42,3,IF(G9<=49,4,IF(G9<=54,5,IF(G9<=59,6,IF(G9<=69,7,8)))))) -> 2 | I9: ='Start og mål'!R9 -> 0 | J9: ='Skyte resultater'!M9 -> 12 | K9: ='Skyte resultater'!N9 -> 6 | L9: ='Skyte resultater'!O9 -> 12 | M9: ='Skyte resultater'!P9 -> 6 | N9: ='Skyte resultater'!Q9 -> 6 | O9: ='Skyte resultater'!S9 -> 42 | P9: =I9+(O9/'[1]Start og mål'!$F$2) -> 0.029166667 | Q9: Deltar ikke | R9: 0 | S9: rm.engebretsen@outlook.com
B10: 7 | C10: Tomtsveen | D10: Magnus | E10: NROF Øvre Romerike | F10: 2002 | G10: =$G$1-F10 -> 23 | H10: 1 | I10: ='Start og mål'!R10 -> 0.038923611 | J10: ='Skyte resultater'!M10 -> 1 | K10: ='Skyte resultater'!N10 -> 2 | L10: ='Skyte resultater'!O10 -> 7 | M10: ='Skyte resultater'!P10 -> 2 | N10: ='Skyte resultater'!Q10 -> 4 | O10: ='Skyte resultater'!S10 -> 16 | P10: =I10+(O10/'[1]Start og mål'!$F$2) -> 0.050034722 | Q10: 250 | R10: 3 | S10: magnus.tomtsveen@gmail.com
B11: 5 | C11: Avdal | D11: Espen | E11: NROF Drammen | F11: 1967 | G11: =$G$1-F11 -> 58 | H11: =IF(G11<=34,2,IF(G11<=42,3,IF(G11<=49,4,IF(G11<=54,5,IF(G11<=59,6,IF(G11<=69,7,8)))))) -> 6 | I11: ='Start og mål'!R11 -> 0.042465278 | J11: ='Skyte resultater'!M11 -> 3 | K11: ='Skyte resultater'!N11 -> 1 | L11: ='Skyte resultater'!O11 -> 6 | M11: ='Skyte resultater'!P11 -> 3 | N11: ='Skyte resultater'!Q11 -> 1 | O11: ='Skyte resultater'!S11 -> 14 | P11: =I11+(O11/'[1]Start og mål'!$F$2) -> 0.0521875 | Q11: 250 | R11: 5 | S11: bilmannen@hotmail.com
B12: 1 | C12: Haug | D12: Thomas | E12: NROF Oslo | F12: 1967 | G12: =$G$1-F12 -> 58 | H12: =IF(G12<=34,2,IF(G12<=42,3,IF(G12<=49,4,IF(G12<=54,5,IF(G12<=59,6,IF(G12<=69,7,8)))))) -> 6 | I12: ='Start og mål'!R12 -> 0 | J12: ='Skyte resultater'!M12 -> 12 | K12: ='Skyte resultater'!N12 -> 6 | L12: ='Skyte resultater'!O12 -> 12 | M12: ='Skyte resultater'!P12 -> 6 | N12: ='Skyte resultater'!Q12 -> 6 | O12: ='Skyte resultater'!S12 -> 42 | P12: =I12+(O12/'[1]Start og mål'!$F$2) -> 0.029166667 | Q12: Deltar ikke | R12: 0 | S12: haug.th@gmail.com
B13: 25 | C13: Slemdal | D13: Mathis Alexander | E13: NROF Øvre Romerike | F13: 1978 | G13: =$G$1-F13 -> 47 | H13: =IF(G13<=34,2,IF(G13<=42,3,IF(G13<=49,4,IF(G13<=54,5,IF(G13<=59,6,IF(G13<=69,7,8)))))) -> 4 | I13: ='Start og mål'!R13 -> 0 | J13: ='Skyte resultater'!M13 -> 12 | K13: ='Skyte resultater'!N13 -> 6 | L13: ='Skyte resultater'!O13 -> 12 | M13: ='Skyte resultater'!P13 -> 6 | N13: ='Skyte resultater'!Q13 -> 6 | O13: ='Skyte resultater'!S13 -> 42 | P13: =I13+(O13/'[1]Start og mål'!$F$2) -> 0.029166667 | Q13: Deltar ikke | R13: 0 | S13: slemdal.film@hotmail.com
B14: 8 | C14: Børresen | D14: Scott Torp | E14: NROF Øvre Romerike | F14: 1995 | G14: =$G$1-F14 -> 30 | H14: =IF(G14<=34,2,IF(G14<=42,3,IF(G14<=49,4,IF(G14<=54,5,IF(G14<=59,6,IF(G14<=69,7,8)))))) -> 2 | I14: ='Start og mål'!R14 -> 0.040868056 | J14: ='Skyte resultater'!M14 -> 10 | K14: ='Skyte resultater'!N14 -> 0 | L14: ='Skyte resultater'!O14 -> 12 | M14: ='Skyte resultater'!P14 -> 6 | N14: ='Skyte resultater'!Q14 -> 4 | O14: ='Skyte resultater'!S14 -> 32 | P14: =I14+(O14/'[1]Start og mål'!$F$2) -> 0.063090278 | Q14: 200 | R14: 12 | S14: scoboe@gmail.com
B15: 2 | C15: Raffelsen | D15: Tony | E15: NROF Øvre Romerike | F15: 1988 | G15: =$G$1-F15 -> 37 | H15: =IF(G15<=34,2,IF(G15<=42,3,IF(G15<=49,4,IF(G15<=54,5,IF(G15<=59,6,IF(G15<=69,7,8)))))) -> 3 | I15: ='Start og mål'!R15 -> 0.040439815 | J15: ='Skyte resultater'!M15 -> 6 | K15: ='Skyte resultater'!N15 -> 3 | L15: ='Skyte resultater'!O15 -> 6 | M15: ='Skyte resultater'!P15 -> 4 | N15: ='Skyte resultater'!Q15 -> 5 | O15: ='Skyte resultater'!S15 -> 24 | P15: =I15+(O15/'[1]Start og mål'!$F$2) -> 0.057106481 | Q15: 250 | R15: 8 | S15: tonyraffelsen@hotmail.com
B16: 9 | C16: Ruud-røhne | D16: Terje | E16: NROF Øvre Romerike | F16: 1968 | G16: =$G$1-F16 -> 57 | H16: =IF(G16<=34,2,IF(G16<=42,3,IF(G16<=49,4,IF(G16<=54,5,IF(G16<=59,6,IF(G16<=69,7,8)))))) -> 6 | I16: ='Start og mål'!R16 -> 0.044965278 | J16: ='Skyte resultater'!M16 -> 4 | K16: ='Skyte resultater'!N16 -> 3 | L16: ='Skyte resultater'!O16 -> 9 | M16: ='Skyte resultater'!P16 -> 5 | N16: ='Skyte resultater'!Q16 -> 2 | O16: ='Skyte resultater'!S16 -> 23 | P16: =I16+(O16/'[1]Start og mål'!$F$2) -> 0.0609375 | Q16: 250 | R16: 9 | S16: terjer-r@online.no
B17: 11 | C17: Bakken | D17: Christian | E17: NROF Øvre Romerike | F17: 1987 | G17: =$G$1-F17 -> 38 | H17: =IF(G17<=34,2,IF(G17<=42,3,IF(G17<=49,4,IF(G17<=54,5,IF(G17<=59,6,IF(G17<=69,7,8)))))) -> 3 | I17: ='Start og mål'!R17 -> 0.042465278 | J17: ='Skyte resultater'!M17 -> 5 | K17: ='Skyte resultater'!N17 -> 2 | L17: ='Skyte resultater'!O17 -> 8 | M17: ='Skyte resultater'!P17 -> 3 | N17: ='Skyte resultater'!Q17 -> 2 | O17: ='Skyte resultater'!S17 -> 20 | P17: =I17+(O17/'[1]Start og mål'!$F$2) -> 0.056354167 | Q17: 250 | R17: 7 | S17: christianbakken87@gmail.com
B18: 10 | C18: Stangeland | D18: Jan Olav | E18: NROF Oslo | F18: 1992 | G18: =$G$1-F18 -> 33 | H18: =IF(G18<=34,2,IF(G18<=42,3,IF(G18<=49,4,IF(G18<=54,5,IF(G18<=59,6,IF(G18<=69,7,8)))))) -> 2 | I18: ='Start og mål'!R18 -> 0.03650463 | J18: ='Skyte resultater'!M18 -> 0 | K18: ='Skyte resultater'!N18 -> 1 | L18: ='Skyte resultater'!O18 -> 3 | M18: ='Skyte resultater'!P18 -> 3 | N18: ='Skyte resultater'!Q18 -> 4 | O18: ='Skyte resultater'!S18 -> 11 | P18: =I18+(O18/'[1]Start og mål'!$F$2) -> 0.044143519 | Q18: 250 | R18: 1 | S18: janolav.stangeland@gmail.com
B19: 13 | C19: Andersen | D19: Jan Erik | E19: NROF Øvre Romerike | F19: 1972 | G19: =$G$1-F19 -> 53 | H19: =IF(G19<=34,2,IF(G19<=42,3,IF(G19<=49,4,IF(G19<=54,5,IF(G19<=59,6,IF(G19<=69,7,8)))))) -> 5 | I19: ='Start og mål'!R19 -> 0.047106481 | J19: ='Skyte resultater'!M19 -> 12 | K19: ='Skyte resultater'!N19 -> 4 | L19: ='Skyte resultater'!O19 -> 12 | M19: ='Skyte resultater'!P19 -> 5 | N19: ='Skyte resultater'!Q19 -> 6 | O19: ='Skyte resultater'!S19 -> 39 | P19: =I19+(O19/'[1]Start og mål'!$F$2) -> 0.074189815 | Q19: 250 | R19: 16 | S19: janerik.andersen@gmail.com
B20: 6 | C20: Raknes | D20: Kenneth | E20: NROF Oslo | F20: 1975 | G20: =$G$1-F20 -> 50 | H20: =IF(G20<=34,2,IF(G20<=42,3,IF(G20<=49,4,IF(G20<=54,5,IF(G20<=59,6,IF(G20<=69,7,8)))))) -> 5 | I20: ='Start og mål'!R20 -> 0.036377315 | J20: ='Skyte resultater'!M20 -> 6 | K20: ='Skyte resultater'!N20 -> 3 | L20: ='Skyte resultater'!O20 -> 2 | M20: ='Skyte resultater'!P20 -> 5 | N20: ='Skyte resultater'!Q20 -> 5 | O20: ='Skyte resultater'!S20 -> 21 | P20: =I20+(O20/'[1]Start og mål'!$F$2) -> 0.050960648 | Q20: 250 | R20: 4 | S20: oslo@nrof.no
B21: 18 | C21: Thorvaldsen | D21: Jørgen André Tuer | E21: NROF Oslo | F21: 1982 | G21: =$G$1-F21 -> 43 | H21: =IF(G21<=34,2,IF(G21<=42,3,IF(G21<=49,4,IF(G21<=54,5,IF(G21<=59,6,IF(G21<=69,7,8)))))) -> 4 | I21: ='Start og mål'!R21 -> 0.036550926 | J21: ='Skyte resultater'!M21 -> 4 | K21: ='Skyte resultater'!N21 -> 3 | L21: ='Skyte resultater'!O21 -> 1 | M21: ='Skyte resultater'!P21 -> 0 | N21: ='Skyte resultater'!Q21 -> 3 | O21: ='Skyte resultater'!S21 -> 11 | P21: =I21+(O21/'[1]Start og mål'!$F$2) -> 0.044189815 | Q21: 250 | R21: 2 | S21: jorgenbear@gmail.com
B22: 23 | C22: Hagen | D22: Carsten | E22: NROF Oslo | F22: 1960 | G22: =$G$1-F22 -> 65 | H22: =IF(G22<=34,2,IF(G22<=42,3,IF(G22<=49,4,IF(G22<=54,5,IF(G22<=59,6,IF(G22<=69,7,8)))))) -> 7 | I22: ='Start og mål'!R22 -> 0.049606481 | J22: ='Skyte resultater'!M22 -> 3 | K22: ='Skyte resultater'!N22 -> 3 | L22: ='Skyte resultater'!O22 -> 7 | M22: ='Skyte resultater'!P22 -> 4 | N22: ='Skyte resultater'!Q22 -> 2 | O22: ='Skyte resultater'!S22 -> 19 | P22: =I22+(O22/'[1]Start og mål'!$F$2) -> 0.062800926 | Q22: 250 | R22: 11 | S22: c4hagen@gmail.com
B23: 17 | C23: Olsen | D23: Jan Erik | E23: NROF Oslo | F23: 1947 | G23: =$G$1-F23 -> 78 | H23: =IF(G23<=34,2,IF(G23<=42,3,IF(G23<=49,4,IF(G23<=54,5,IF(G23<=59,6,IF(G23<=69,7,8)))))) -> 8 | I23: ='Start og mål'!R23 -> 0.044618056 | J23: ='Skyte resultater'!M23 -> 6 | K23: ='Skyte resultater'!N23 -> 6 | L23: ='Skyte resultater'!O23 -> 8 | M23: ='Skyte resultater'!P23 -> 5 | N23: ='Skyte resultater'!Q23 -> 4 | O23: ='Skyte resultater'!S23 -> 29 | P23: =I23+(O23/'[1]Start og mål'!$F$2) -> 0.064756944 | Q23: 250 | R23: 13 | S23: jaeriko@online.no
B24: 19 | C24: Biørn | D24: Arne Henrik | E24: NROF Oslo | F24: 1948 | G24: =$G$1-F24 -> 77 | H24: =IF(G24<=34,2,IF(G24<=42,3,IF(G24<=49,4,IF(G24<=54,5,IF(G24<=59,6,IF(G24<=69,7,8)))))) -> 8 | I24: ='Start og mål'!R24 -> 0.067777778 | J24: ='Skyte resultater'!M24 -> 3 | K24: ='Skyte resultater'!N24 -> 3 | L24: ='Skyte resultater'!O24 -> 7 | M24: ='Skyte resultater'!P24 -> 3 | N24: ='Skyte resultater'!Q24 -> 5 | O24: ='Skyte resultater'!S24 -> 21 | P24: =I24+(O24/'[1]Start og mål'!$F$2) -> 0.082361111 | Q24: 250 | R24: 17 | S24: arnbiorn@online.no
B25: 22 | C25: Dahl | D25: Aleksander | E25: NROF Øvre Romerike | F25: 1972 | G25: =$G$1-F25 -> 53 | H25: =IF(G25<=34,2,IF(G25<=42,3,IF(G25<=49,4,IF(G25<=54,5,IF(G25<=59,6,IF(G25<=69,7,8)))))) -> 5 | I25: ='Start og mål'!R25 -> 0.057939815 | J25: ='Skyte resultater'!M25 -> 7 | K25: ='Skyte resultater'!N25 -> 2 | L25: ='Skyte resultater'!O25 -> 5 | M25: ='Skyte resultater'!P25 -> 1 | N25: ='Skyte resultater'!Q25 -> 5 | O25: ='Skyte resultater'!S25 -> 20 | P25: =I25+(O25/'[1]Start og mål'!$F$2) -> 0.071828704 | Q25: 200 | R25: 15 | S25: aleksander.dahl@getmail.no
... B28: 4 | C28: Langerød | D28: Inge | E28: NROF Øvre Romerike | F28: 1965 | G28: =$G$1-F28 -> 60 | H28: =IF(G28<=34,2,IF(G28<=42,3,IF(G28<=49,4,IF(G28<=54,5,IF(G28<=59,6,IF(G28<=69,7,8)))))) -> 7 | I28: ='Start og mål'!R28 -> 0.042465278 | J28: ='Skyte resultater'!M28 -> 12 | K28: ='Skyte resultater'!N28 -> 1 | L28: ='Skyte resultater'!O28 -> 2 | M28: ='Skyte resultater'!P28 -> 1 | N28: ='Skyte resultater'!Q28 -> 2 | O28: ='Skyte resultater'!S28 -> 18 | P28: =I28+(O28/'[1]Start og mål'!$F$2) -> 0.054965278 | Q28: 200 | R28: 6 | S28: ilangerod@gmail.com
Q39: =SUM(Q8:Q38) -> 4000

Sheet Sheet1
E2: Jevne | F2: Tommy | G2: tommyjevne@gmail.com | H2: 94195909 | J2: overdue | K2: 250 | M2: NROF Øvre Romerike
E3: Engebretsen | F3: Rolf Martin | G3: rm.engebretsen@outlook.com | H3: 95448808 | J3: overdue | K3: 250 | M3: NROF Øvre Romerike
E4: Tomtsveen | F4: Magnus | G4: magnus.tomtsveen@gmail.com | H4: 95524510 | J4: paid | K4: 250 | M4: NROF Øvre Romerike | N4: 2025-08-23T12:50:23.6Z
E5: Avdal | F5: Espen | G5: bilmannen@hotmail.com | H5: 92404122 | J5: paid | K5: 250 | M5: NROF Drammen | N5: 2025-06-23T21:58:43.847Z
E6: Haug | F6: Thomas | G6: haug.th@gmail.com | H6: 93427206 | J6: paid | K6: 250 | M6: NROF Oslo | N6: 2025-07-01T13:19:09.43Z
E7: Slemdal | F7: Mathis Alexander | G7: slemdal.film@hotmail.com | H7: 48255975 | J7: paid | K7: 250 | M7: NROF Øvre Romerike | N7: 2025-07-06T21:56:26.08Z
E8: Børresen | F8: Scott Torp | G8: scoboe@gmail.com | H8: 93618747 | J8: overdue | K8: 250 | M8: NROF Øvre Romerike
E9: Raffelsen | F9: Tony | G9: tonyraffelsen@hotmail.com | H9: 45277797 | J9: paid | K9: 250 | M9: NROF Øvre Romerike | N9: 2025-07-22T15:02:32.477Z
E10: Ruud-røhne | F10: Terje | G10: terjer-r@online.no | H10: 90162168 | J10: paid | K10: 250 | M10: NROF Øvre Romerike | N10: 2025-07-23T09:38:09.92Z
E11: Bakken | F11: Christian | G11: christianbakken87@gmail.com | H11: 93611238 | J11: paid | K11: 250 | M11: NROF Øvre Romerike | N11: 2025-08-13T07:41:35.593Z
E12: Stangeland | F12: Jan Olav | G12: janolav.stangeland@gmail.com | H12: 99437414 | J12: paid | K12: 250 | M12: NROF Oslo | N12: 2025-08-31T20:00:24.447Z
E13: Andersen | F13: Jan Erik | G13: janerik.andersen@gmail.com | H13: 41621927 | J13: paid | K13: 250 | M13: NROF Øvre Romerike | N13: 2025-09-10T11:12:32.217Z
E14: Raknes | F14: Kenneth | G14: oslo@nrof.no | H14: 92042029 | J14: paid | K14: 250 | M14: NROF Oslo | N14: 2025-09-02T12:54:38.24Z
E15: Thorvaldsen | F15: Jørgen André Tuer | G15: jorgenbear@gmail.com | H15: 91189066 | J15: paid | K15: 250 | M15: NROF Oslo | N15: 2025-09-09T12:29:28.683Z
E16: Hagen | F16: Carsten | G16: c4hagen@gmail.com | H16: 95410601 | J16: paid | K16: 250 | M16: NROF Oslo | N16: 2025-09-10T19:35:11.63Z
E17: Olsen | F17: Jan Erik | G17: jaeriko@online.no | H17: 95206611 | J17: paid | K17: 250 | M17: NROF Oslo | N17: 2025-09-13T10:18:03.313Z
E18: Biørn | F18: Arne Henrik | G18: arnbiorn@online.no | H18: 93002707 | J18: paid | K18: 250 | M18: NROF Oslo | N18: 2025-09-14T16:45:26.363Z
E19: Dahl | F19: Aleksander | G19: aleksander.dahl@getmail.no | H19: 91650307 | J19: paid | K19: 200 | M19: NROF Øvre Romerike | N19: 2025-09-16T17:06:02.567Z
E20: Narvestad | F20: Steinar | G20: steinar@narvestad.com | H20: 97574097 | J20: paid | K20: 200 | M20: NROF Øvre Romerike | N20: 2025-09-17T18:43:39.15Z

Sheet Skyte resultater
A3: Skive | B3: Personalia | F3: Treff
A4: Nr | B4: Navn | D4: Avd | E4: Klasse | F4: Småen | H4: 13*40 | I4: C25 | K4: 10*30 | L4: Cior | M4: Småen | N4: 13*40 | O4: C25 | P4: 10*30 | Q4: Cior | R4: Proc | S4: Sum
F5: Indre | G5: Ytre | I5: Indre | J5: Ytre | M5: [m] | N5: [m] | O5: [m] | P5: [m] | Q5: [m] | S5: [m]
A8: =Grovdata!B8 -> 21 | B8: =Grovdata!C8 -> Jevne | C8: =Grovdata!D8 -> Tommy | D8: =#REF! -> #REF! | E8: =#REF! -> #REF! | M8: =6-F8+((6-(G8+F8))) -> 12 | N8: =6-H8 -> 6 | O8: =6-I8+((6-(I8+J8))) -> 12 | P8: =6-K8 -> 6 | Q8: =6-L8 -> 6 | S8: =SUM(M8:R8) -> 42
A9: =Grovdata!B9 -> 20 | B9: =Grovdata!C9 -> Engebretsen | C9: =Grovdata!D9 -> Rolf Martin | D9: =#REF! -> #REF! | E9: =#REF! -> #REF! | M9: =6-F9+((6-(G9+F9))) -> 12 | N9: =6-H9 -> 6 | O9: =6-I9+((6-(I9+J9))) -> 12 | P9: =6-K9 -> 6 | Q9: =6-L9 -> 6 | S9: =SUM(M9:R9) -> 42
A10: =Grovdata!B10 -> 7 | B10: =Grovdata!C10 -> Tomtsveen | C10: =Grovdata!D10 -> Magnus | D10: =#REF! -> #REF! | E10: =#REF! -> #REF! | F10: 5 | G10: 1 | H10: 4 | I10: 1 | J10: 3 | K10: 4 | L10: 2 | M10: =6-F10+((6-(G10+F10))) -> 1 | N10: =6-H10 -> 2 | O10: =6-I10+((6-(I10+J10))) -> 7 | P10: =6-K10 -> 2 | Q10: =6-L10 -> 4 | S10: =SUM(M10:R10) -> 16
A11: =Grovdata!B11 -> 5 | B11: =Grovdata!C11 -> Avdal | C11: =Grovdata!D11 -> Espen | D11: =#REF! -> #REF! | E11: =#REF! -> #REF! | F11: 3 | G11: 3 | H11: 5 | I11: 2 | J11: 2 | K11: 3 | L11: 5 | M11: =6-F11+((6-(G11+F11))) -> 3 | N11: =6-H11 -> 1 | O11: =6-I11+((6-(I11+J11))) -> 6 | P11: =6-K11 -> 3 | Q11: =6-L11 -> 1 | S11: =SUM(M11:R11) -> 14
A12: =Grovdata!B12 -> 1 | B12: =Grovdata!C12 -> Haug | C12: =Grovdata!D12 -> Thomas | D12: =#REF! -> #REF! | E12: =#REF! -> #REF! | M12: =6-F12+((6-(G12+F12))) -> 12 | N12: =6-H12 -> 6 | O12: =6-I12+((6-(I12+J12))) -> 12 | P12: =6-K12 -> 6 | Q12: =6-L12 -> 6 | S12: =SUM(M12:R12) -> 42
A13: =Grovdata!B13 -> 25 | B13: =Grovdata!C13 -> Slemdal | C13: =Grovdata!D13 -> Mathis Alexander | D13: =#REF! -> #REF! | E13: =#REF! -> #REF! | M13: =6-F13+((6-(G13+F13))) -> 12 | N13: =6-H13 -> 6 | O13: =6-I13+((6-(I13+J13))) -> 12 | P13: =6-K13 -> 6 | Q13: =6-L13 -> 6 | S13: =SUM(M13:R13) -> 42
A14: =Grovdata!B14 -> 8 | B14: =Grovdata!C14 -> Børresen | C14: =Grovdata!D14 -> Scott Torp | D14: =#REF! -> #REF! | E14: =#REF! -> #REF! | F14: 0 | G14: 2 | H14: 6 | I14: 0 | J14: 0 | K14: 0 | L14: 2 | M14: =6-F14+((6-(G14+F14))) -> 10 | N14: =6-H14 -> 0 | O14: =6-I14+((6-(I14+J14))) -> 12 | P14: =6-K14 -> 6 | Q14: =6-L14 -> 4 | S14: =SUM(M14:R14) -> 32
A15: =Grovdata!B15 -> 2 | B15: =Grovdata!C15 -> Raffelsen | C15: =Grovdata!D15 -> Tony | D15: =#REF! -> #REF! | E15: =#REF! -> #REF! | F15: 1 | G15: 4 | H15: 3 | I15: 1 | J15: 4 | K15: 2 | L15: 1 | M15: =6-F15+((6-(G15+F15))) -> 6 | N15: =6-H15 -> 3 | O15: =6-I15+((6-(I15+J15))) -> 6 | P15: =6-K15 -> 4 | Q15: =6-L15 -> 5 | S15: =SUM(M15:R15) -> 24
A16: =Grovdata!B16 -> 9 | B16: =Grovdata!C16 -> Ruud-røhne | C16: =Grovdata!D16 -> Terje | D16: =#REF! -> #REF! | E16: =#REF! -> #REF! | F16: 2 | G16: 4 | H16: 3 | I16: 0 | J16: 3 | K16: 1 | L16: 4 | M16: =6-F16+((6-(G16+F16))) -> 4 | N16: =6-H16 -> 3 | O16: =6-I16+((6-(I16+J16))) -> 9 | P16: =6-K16 -> 5 | Q16: =6-L16 -> 2 | S16: =SUM(M16:R16) -> 23
A17: =Grovdata!B17 -> 11 | B17: =Grovdata!C17 -> Bakken | C17: =Grovdata!D17 -> Christian | D17: =#REF! -> #REF! | E17: =#REF! -> #REF! | F17: 2 | G17: 3 | H17: 4 | I17: 1 | J17: 2 | K17: 3 | L17: 4 | M17: =6-F17+((6-(G17+F17))) -> 5 | N17: =6-H17 -> 2 | O17: =6-I17+((6-(I17+J17))) -> 8 | P17: =6-K17 -> 3 | Q17: =6-L17 -> 2 | S17: =SUM(M17:R17) -> 20
A18: =Grovdata!B18 -> 10 | B18: =Grovdata!C18 -> Stangeland | C18: =Grovdata!D18 -> Jan Olav | D18: =#REF! -> #REF! | E18: =#REF! -> #REF! | F18: 6 | G18: 0 | H18: 5 | I18: 3 | J18: 3 | K18: 3 | L18: 2 | M18: =6-F18+((6-(G18+F18))) -> 0 | N18: =6-H18 -> 1 | O18: =6-I18+((6-(I18+J18))) -> 3 | P18: =6-K18 -> 3 | Q18: =6-L18 -> 4 | S18: =SUM(M18:R18) -> 11
A19: =Grovdata!B19 -> 13 | B19: =Grovdata!C19 -> Andersen | C19: =Grovdata!D19 -> Jan Erik | D19: =#REF! -> #REF! | E19: =#REF! -> #REF! | F19: 0 | G19: 0 | H19: 2 | I19: 0 | J19: 0 | K19: 1 | L19: 0 | M19: =6-F19+((6-(G19+F19))) -> 12 | N19: =6-H19 -> 4 | O19: =6-I19+((6-(I19+J19))) -> 12 | P19: =6-K19 -> 5 | Q19: =6-L19 -> 6 | S19: =SUM(M19:R19) -> 39
A20: =Grovdata!B20 -> 6 | B20: =Grovdata!C20 -> Raknes | C20: =Grovdata!D20 -> Kenneth | D20: =#REF! -> #REF! | E20: =#REF! -> #REF! | F20: 1 | G20: 4 | H20: 3 | I20: 4 | J20: 2 | K20: 1 | L20: 1 | M20: =6-F20+((6-(G20+F20))) -> 6 | N20: =6-H20 -> 3 | O20: =6-I20+((6-(I20+J20))) -> 2 | P20: =6-K20 -> 5 | Q20: =6-L20 -> 5 | S20: =SUM(M20:R20) -> 21
A21: =Grovdata!B21 -> 18 | B21: =Grovdata!C21 -> Thorvaldsen | C21: =Grovdata!D21 -> Jørgen André Tuer | D21: =#REF! -> #REF! | E21: =#REF! -> #REF! | F21: 2 | G21: 4 | H21: 3 | I21: 5 | J21: 1 | K21: 6 | L21: 3 | M21: =6-F21+((6-(G21+F21))) -> 4 | N21: =6-H21 -> 3 | O21: =6-I21+((6-(I21+J21))) -> 1 | P21: =6-K21 -> 0 | Q21: =6-L21 -> 3 | S21: =SUM(M21:R21) -> 11
A22: =Grovdata!B22 -> 23 | B22: =Grovdata!C22 -> Hagen | C22: =Grovdata!D22 -> Carsten | D22: =#REF! -> #REF! | E22: =#REF! -> #REF! | F22: 3 | G22: 3 | H22: 3 | I22: 1 | J22: 3 | K22: 2 | L22: 4 | M22: =6-F22+((6-(G22+F22))) -> 3 | N22: =6-H22 -> 3 | O22: =6-I22+((6-(I22+J22))) -> 7 | P22: =6-K22 -> 4 | Q22: =6-L22 -> 2 | S22: =SUM(M22:R22) -> 19
A23: =Grovdata!B23 -> 17 | B23: =Grovdata!C23 -> Olsen | C23: =Grovdata!D23 -> Jan Erik | D23: =#REF! -> #REF! | E23: =#REF! -> #REF! | F23: 2 | G23: 2 | H23: 0 | I23: 1 | J23: 2 | K23: 1 | L23: 2 | M23: =6-F23+((6-(G23+F23))) -> 6 | N23: =6-H23 -> 6 | O23: =6-I23+((6-(I23+J23))) -> 8 | P23: =6-K23 -> 5 | Q23: =6-L23 -> 4 | S23: =SUM(M23:R23) -> 29
A24: =Grovdata!B24 -> 19 | B24: =Grovdata!C24 -> Biørn | C24: =Grovdata!D24 -> Arne Henrik | D24: =#REF! -> #REF! | E24: =#REF! -> #REF! | F24: 3 | G24: 3 | H24: 3 | I24: 0 | J24: 5 | K24: 3 | L24: 1 | M24: =6-F24+((6-(G24+F24))) -> 3 | N24: =6-H24 -> 3 | O24: =6-I24+((6-(I24+J24))) -> 7 | P24: =6-K24 -> 3 | Q24: =6-L24 -> 5 | S24: =SUM(M24:R24) -> 21
A25: =Grovdata!B25 -> 22 | B25: =Grovdata!C25 -> Dahl | C25: =Grovdata!D25 -> Aleksander | D25: =#REF! -> #REF! | E25: =#REF! -> #REF! | F25: 2 | G25: 1 | H25: 4 | I25: 2 | J25: 3 | K25: 5 | L25: 1 | M25: =6-F25+((6-(G25+F25))) -> 7 | N25: =6-H25 -> 2 | O25: =6-I25+((6-(I25+J25))) -> 5 | P25: =6-K25 -> 1 | Q25: =6-L25 -> 5 | S25: =SUM(M25:R25) -> 20
... A28: =Grovdata!B28 -> 4 | B28: =Grovdata!C28 -> Langerød | C28: =Grovdata!D28 -> Inge | D28: =#REF! -> #REF! | E28: =#REF! -> #REF! | F28: 0 | G28: 0 | H28: 5 | I28: 4 | J28: 2 | K28: 5 | L28: 4 | M28: =6-F28+((6-(G28+F28))) -> 12 | N28: =6-H28 -> 1 | O28: =6-I28+((6-(I28+J28))) -> 2 | P28: =6-K28 -> 1 | Q28: =6-L28 -> 2 | S28: =SUM(M28:R28) -> 18

Sheet Start og mål
B1: Starttid | G1: 0.50069444
B2: Faktor | G2: 1440
A4: Start | B4: Personalia | G4: Start | H4: Rundetelling / Passeringstider / Rundetider | P4: Mål | R4: Tid
A5: Nr | B5: Navn | D5: Avd | E5: Klasse | H5: 1 | I5: Rundetid | J5: 2 | K5: Rundetid | L5: 3 | M5: Rundetid | N5: 4 | O5: Rundetid | Q5: Rundetid
F6: brikke nr | G6: [t:m:s] | H6: [t:m:s] | I6: [m:s] | J6: [t:m:s] | K6: [m:s] | L6: [t:m:s] | M6: [m:s] | N6: [t:m:s] | O6: [m:s] | P6: [t:m:s] | Q6: [m:s] | R6: [t:m:s]
A8: =Grovdata!B8 -> 21 | B8: =Grovdata!C8 -> Jevne | C8: =Grovdata!D8 -> Tommy | D8: =#REF! -> #REF! | E8: =#REF! -> #REF! | F8: 4182580 | R8: =P8-G8 -> 0
A9: =Grovdata!B9 -> 20 | B9: =Grovdata!C9 -> Engebretsen | C9: =Grovdata!D9 -> Rolf Martin | D9: =#REF! -> #REF! | E9: =#REF! -> #REF! | F9: 4182424 | R9: =P9-G9 -> 0
A10: =Grovdata!B10 -> 7 | B10: =Grovdata!C10 -> Tomtsveen | C10: =Grovdata!D10 -> Magnus | D10: =#REF! -> #REF! | E10: =#REF! -> #REF! | F10: 4180139 | R10: 0.038923611
A11: =Grovdata!B11 -> 5 | B11: =Grovdata!C11 -> Avdal | C11: =Grovdata!D11 -> Espen | D11: =#REF! -> #REF! | E11: =#REF! -> #REF! | F11: 4179891 | R11: 0.042465278
A12: =Grovdata!B12 -> 1 | B12: =Grovdata!C12 -> Haug | C12: =Grovdata!D12 -> Thomas | D12: =#REF! -> #REF! | E12: =#REF! -> #REF! | F12: 4178588 | R12: =P12-G12 -> 0
A13: =Grovdata!B13 -> 25 | B13: =Grovdata!C13 -> Slemdal | C13: =Grovdata!D13 -> Mathis Alexander | D13: =#REF! -> #REF! | E13: =#REF! -> #REF! | F13: 4182879 | R13: =P13-G13 -> 0
A14: =Grovdata!B14 -> 8 | B14: =Grovdata!C14 -> Børresen | C14: =Grovdata!D14 -> Scott Torp | D14: =#REF! -> #REF! | E14: =#REF! -> #REF! | F14: 4180154 | R14: 0.040868056
A15: =Grovdata!B15 -> 2 | B15: =Grovdata!C15 -> Raffelsen | C15: =Grovdata!D15 -> Tony | D15: =#REF! -> #REF! | E15: =#REF! -> #REF! | F15: 4178711 | G15: 0.0048611111 | P15: 0.045300926 | R15: =P15-G15 -> 0.040439815
A16: =Grovdata!B16 -> 9 | B16: =Grovdata!C16 -> Ruud-røhne | C16: =Grovdata!D16 -> Terje | D16: =#REF! -> #REF! | E16: =#REF! -> #REF! | F16: 4180337 | R16: 0.044965278
A17: =Grovdata!B17 -> 11 | B17: =Grovdata!C17 -> Bakken | C17: =Grovdata!D17 -> Christian | D17: =#REF! -> #REF! | E17: =#REF! -> #REF! | F17: 4180592 | R17: 0.042465278
A18: =Grovdata!B18 -> 10 | B18: =Grovdata!C18 -> Stangeland | C18: =Grovdata!D18 -> Jan Olav | D18: =#REF! -> #REF! | E18: =#REF! -> #REF! | F18: 4180402 | R18: 0.03650463
A19: =Grovdata!B19 -> 13 | B19: =Grovdata!C19 -> Andersen | C19: =Grovdata!D19 -> Jan Erik | D19: =#REF! -> #REF! | E19: =#REF! -> #REF! | F19: 4180634 | R19: 0.047106481
A20: =Grovdata!B20 -> 6 | B20: =Grovdata!C20 -> Raknes | C20: =Grovdata!D20 -> Kenneth | D20: =#REF! -> #REF! | E20: =#REF! -> #REF! | F20: 4180089 | R20: 0.036377315
A21: =Grovdata!B21 -> 18 | B21: =Grovdata!C21 -> Thorvaldsen | C21: =Grovdata!D21 -> Jørgen André Tuer | D21: =#REF! -> #REF! | E21: =#REF! -> #REF! | F21: 4181947 | R21: 0.036550926
A22: =Grovdata!B22 -> 23 | B22: =Grovdata!C22 -> Hagen | C22: =Grovdata!D22 -> Carsten | D22: =#REF! -> #REF! | E22: =#REF! -> #REF! | F22: 4182648 | R22: 0.049606481
A23: =Grovdata!B23 -> 17 | B23: =Grovdata!C23 -> Olsen | C23: =Grovdata!D23 -> Jan Erik | D23: =#REF! -> #REF! | E23: =#REF! -> #REF! | F23: 4181715 | R23: 0.044618056
A24: =Grovdata!B24 -> 19 | B24: =Grovdata!C24 -> Biørn | C24: =Grovdata!D24 -> Arne Henrik | D24: =#REF! -> #REF! | E24: =#REF! -> #REF! | F24: 4182150 | R24: 0.067777778
A25: =Grovdata!B25 -> 22 | B25: =Grovdata!C25 -> Dahl | C25: =Grovdata!D25 -> Aleksander | D25: =#REF! -> #REF! | E25: =#REF! -> #REF! | F25: 4182614 | G25: 0 | P25: 0.057939815 | R25: =P25-G25 -> 0.057939815
A26: =Grovdata!B26 -> 14 | B26: =Grovdata!C26 -> Narvestad | C26: =Grovdata!D26 -> Steinar | D26: =#REF! -> #REF! | E26: =#REF! -> #REF! | F26: 4181004 | G26: 0 | P26: 0.0540625 | R26: =P26-G26 -> 0.0540625
A27: =Grovdata!B27 -> 12 | B27: =Grovdata!C27 -> Stene | C27: =Grovdata!D27 -> Rune | D27: =#REF! -> #REF! | E27: =#REF! -> #REF! | F27: 4180626 | G27: 0 | P27: 0.04462963 | R27: =P27-G27 -> 0.04462963
A28: =Grovdata!B28 -> 4 | B28: =Grovdata!C28 -> Langerød | C28: =Grovdata!D28 -> Inge | D28: =#REF! -> #REF! | E28: =#REF! -> #REF! | F28: 4179800 | G28: 0.00069444444 | P28: 0.051689815 | R28: 0.042465278
A29: =Grovdata!B29 -> 0 | D29: =#REF! -> #REF! | E29: =#REF! -> #REF!
A30: =Grovdata!B30 -> 0 | D30: =#REF! -> #REF! | E30: =#REF! -> #REF!
A31: =Grovdata!B31 -> 0 | D31: =#REF! -> #REF! | E31: =#REF! -> #REF!
A32: =Grovdata!B32 -> 0 | D32: =#REF! -> #REF! | E32: =#REF! -> #REF!
A33: =Grovdata!B33 -> 0 | D33: =#REF! -> #REF! | E33: =#REF! -> #REF!
D34: =#REF! -> #REF! | E34: =#REF! -> #REF!
D35: =#REF! -> #REF! | E35: =#REF! -> #REF!
D36: =#REF! -> #REF! | E36: =#REF! -> #REF!
D37: =#REF! -> #REF! | E37: =#REF! -> #REF!
D38: =#REF! -> #REF! | E38: =#REF! -> #REF!
D39: =#REF! -> #REF! | E39: =#REF! -> #REF!
D40: =#REF! -> #REF! | E40: =#REF! -> #REF!
D41: =#REF! -> #REF! | E41: =#REF! -> #REF!
D42: =#REF! -> #REF! | E42: =#REF! -> #REF!
...
